BEGIN:VCALENDAR
VERSION:2.0
PRODID:-//PvdA Groenlinks Eersel - ECPv6.15.20//NONSGML v1.0//EN
CALSCALE:GREGORIAN
METHOD:PUBLISH
X-WR-CALNAME:PvdA Groenlinks Eersel
X-ORIGINAL-URL:https://pvda-groenlinks.nl
X-WR-CALDESC:Evenementen voor PvdA Groenlinks Eersel
REFRESH-INTERVAL;VALUE=DURATION:PT1H
X-Robots-Tag:noindex
X-PUBLISHED-TTL:PT1H
BEGIN:VTIMEZONE
TZID:UTC
BEGIN:STANDARD
TZOFFSETFROM:+0000
TZOFFSETTO:+0000
TZNAME:UTC
DTSTART:20240101T000000
END:STANDARD
END:VTIMEZONE
BEGIN:VEVENT
DTSTART;TZID=UTC:20250619T200000
DTEND;TZID=UTC:20250619T230000
DTSTAMP:20260425T114246
CREATED:20250606T120632Z
LAST-MODIFIED:20250606T120632Z
UID:1124-1750363200-1750374000@pvda-groenlinks.nl
SUMMARY:Commissievergadering (Financiële commissie)
DESCRIPTION:
URL:https://pvda-groenlinks.nl/agenda/commissievergadering-financiele-commissie/
LOCATION:Gemeentehuis Eersel\, Dijk 15\, Eersel\, Netherlands
END:VEVENT
BEGIN:VEVENT
DTSTART;TZID=UTC:20250618T193000
DTEND;TZID=UTC:20250618T220000
DTSTAMP:20260425T114246
CREATED:20250606T120823Z
LAST-MODIFIED:20250606T120823Z
UID:1126-1750275000-1750284000@pvda-groenlinks.nl
SUMMARY:Cursus Politiek Actief (2)
DESCRIPTION:
URL:https://pvda-groenlinks.nl/agenda/cursus-politiek-actief-2/
LOCATION:Raadzaal Bladel\, Markt 21\, Bladel\, 5531 BC\, Netherlands
END:VEVENT
BEGIN:VEVENT
DTSTART;TZID=UTC:20250617T190000
DTEND;TZID=UTC:20250617T230000
DTSTAMP:20260425T114246
CREATED:20250606T120924Z
LAST-MODIFIED:20250606T120924Z
UID:1129-1750186800-1750201200@pvda-groenlinks.nl
SUMMARY:Brainstormsessie Roze Stembusakkoord
DESCRIPTION:
URL:https://pvda-groenlinks.nl/agenda/brainstormsessie-roze-stembusakkoord/
LOCATION:Eindhoven\, Netherlands
END:VEVENT
BEGIN:VEVENT
DTSTART;TZID=UTC:20250612T200000
DTEND;TZID=UTC:20250612T230000
DTSTAMP:20260425T114246
CREATED:20250606T121023Z
LAST-MODIFIED:20250606T121023Z
UID:1132-1749758400-1749769200@pvda-groenlinks.nl
SUMMARY:Commissievergadering
DESCRIPTION:
URL:https://pvda-groenlinks.nl/agenda/commissievergadering-5/
LOCATION:Gemeentehuis Eersel\, Dijk 15\, Eersel\, Netherlands
END:VEVENT
BEGIN:VEVENT
DTSTART;TZID=UTC:20250611T193000
DTEND;TZID=UTC:20250611T230000
DTSTAMP:20260425T114246
CREATED:20250606T121141Z
LAST-MODIFIED:20250606T121141Z
UID:1136-1749670200-1749682800@pvda-groenlinks.nl
SUMMARY:Metropoolconferentie
DESCRIPTION:
URL:https://pvda-groenlinks.nl/agenda/metropoolconferentie-2/
END:VEVENT
BEGIN:VEVENT
DTSTART;TZID=UTC:20250611T193000
DTEND;TZID=UTC:20250611T220000
DTSTAMP:20260425T114246
CREATED:20250606T121110Z
LAST-MODIFIED:20250606T121110Z
UID:1134-1749670200-1749679200@pvda-groenlinks.nl
SUMMARY:Cursus Politiek Actief (1)
DESCRIPTION:
URL:https://pvda-groenlinks.nl/agenda/cursus-politiek-actief-1/
LOCATION:Gemeentehuis Eersel\, Dijk 15\, Eersel\, Netherlands
END:VEVENT
BEGIN:VEVENT
DTSTART;TZID=UTC:20250610T200000
DTEND;TZID=UTC:20250610T220000
DTSTAMP:20260425T114246
CREATED:20250610T181127Z
LAST-MODIFIED:20250610T181127Z
UID:1159-1749585600-1749592800@pvda-groenlinks.nl
SUMMARY:Fractie+
DESCRIPTION:
URL:https://pvda-groenlinks.nl/agenda/fractie/
LOCATION:Gemeentehuis Eersel\, Dijk 15\, Eersel\, Netherlands
ORGANIZER;CN="PvdA Groenlinks Eersel":MAILTO:info@pvda-groenlinks.nl
END:VEVENT
BEGIN:VEVENT
DTSTART;VALUE=DATE:20250609
DTEND;VALUE=DATE:20250610
DTSTAMP:20260425T114246
CREATED:20250606T121215Z
LAST-MODIFIED:20250606T121215Z
UID:1138-1749427200-1749513599@pvda-groenlinks.nl
SUMMARY:Tweede Pinksterdag
DESCRIPTION:
URL:https://pvda-groenlinks.nl/agenda/tweede-pinksterdag/
END:VEVENT
BEGIN:VEVENT
DTSTART;VALUE=DATE:20250608
DTEND;VALUE=DATE:20250609
DTSTAMP:20260425T114246
CREATED:20250606T121235Z
LAST-MODIFIED:20250606T121235Z
UID:1140-1749340800-1749427199@pvda-groenlinks.nl
SUMMARY:Eerste Pinksterdag
DESCRIPTION:
URL:https://pvda-groenlinks.nl/agenda/eerste-pinksterdag/
END:VEVENT
END:VCALENDAR