BEGIN:VCALENDAR
VERSION:2.0
PRODID:-//PvdA Groenlinks Eersel - ECPv6.15.20//NONSGML v1.0//EN
CALSCALE:GREGORIAN
METHOD:PUBLISH
X-ORIGINAL-URL:https://pvda-groenlinks.nl
X-WR-CALDESC:Evenementen voor PvdA Groenlinks Eersel
REFRESH-INTERVAL;VALUE=DURATION:PT1H
X-Robots-Tag:noindex
X-PUBLISHED-TTL:PT1H
BEGIN:VTIMEZONE
TZID:UTC
BEGIN:STANDARD
TZOFFSETFROM:+0000
TZOFFSETTO:+0000
TZNAME:UTC
DTSTART:20240101T000000
END:STANDARD
END:VTIMEZONE
BEGIN:VEVENT
DTSTART;TZID=UTC:20251119T193000
DTEND;TZID=UTC:20251119T230000
DTSTAMP:20260425T101700
CREATED:20250606T115039Z
LAST-MODIFIED:20250606T115039Z
UID:1091-1763580600-1763593200@pvda-groenlinks.nl
SUMMARY:Metropoolconferentie
DESCRIPTION:
URL:https://pvda-groenlinks.nl/agenda/metropoolconferentie/
END:VEVENT
BEGIN:VEVENT
DTSTART;TZID=UTC:20251126T200000
DTEND;TZID=UTC:20251126T230000
DTSTAMP:20260425T101700
CREATED:20250606T121835Z
LAST-MODIFIED:20251122T085734Z
UID:1153-1764187200-1764198000@pvda-groenlinks.nl
SUMMARY:ALV
DESCRIPTION:
URL:https://pvda-groenlinks.nl/agenda/alv-te-bevestigen/
END:VEVENT
BEGIN:VEVENT
DTSTART;TZID=UTC:20251202T200000
DTEND;TZID=UTC:20251202T230000
DTSTAMP:20260425T101700
CREATED:20250606T114950Z
LAST-MODIFIED:20250606T114950Z
UID:1089-1764705600-1764716400@pvda-groenlinks.nl
SUMMARY:Commissievergadering
DESCRIPTION:
URL:https://pvda-groenlinks.nl/agenda/commissievergadering-2/
LOCATION:Gemeentehuis Eersel\, Dijk 15\, Eersel\, Netherlands
END:VEVENT
BEGIN:VEVENT
DTSTART;TZID=UTC:20251203T193000
DTEND;TZID=UTC:20251203T230000
DTSTAMP:20260425T101700
CREATED:20250606T114909Z
LAST-MODIFIED:20250606T114909Z
UID:1087-1764790200-1764802800@pvda-groenlinks.nl
SUMMARY:Raadstafel21
DESCRIPTION:
URL:https://pvda-groenlinks.nl/agenda/raadstafel21/
END:VEVENT
BEGIN:VEVENT
DTSTART;TZID=UTC:20251216T200000
DTEND;TZID=UTC:20251216T230000
DTSTAMP:20260425T101700
CREATED:20250606T114747Z
LAST-MODIFIED:20250606T114747Z
UID:1085-1765915200-1765926000@pvda-groenlinks.nl
SUMMARY:Raadsvergadering
DESCRIPTION:
URL:https://pvda-groenlinks.nl/agenda/raadsvergadering-2/
LOCATION:Gemeentehuis Eersel\, Dijk 15\, Eersel\, Netherlands
END:VEVENT
BEGIN:VEVENT
DTSTART;VALUE=DATE:20251222
DTEND;VALUE=DATE:20260103
DTSTAMP:20260425T101700
CREATED:20250606T110050Z
LAST-MODIFIED:20250606T110050Z
UID:1083-1766361600-1767398399@pvda-groenlinks.nl
SUMMARY:Kerstvakantie
DESCRIPTION:
URL:https://pvda-groenlinks.nl/agenda/kerstvakantie/
END:VEVENT
BEGIN:VEVENT
DTSTART;TZID=UTC:20260113T200000
DTEND;TZID=UTC:20260113T230000
DTSTAMP:20260425T101700
CREATED:20250606T105903Z
LAST-MODIFIED:20250606T105903Z
UID:1080-1768334400-1768345200@pvda-groenlinks.nl
SUMMARY:Commissievergadering
DESCRIPTION:
URL:https://pvda-groenlinks.nl/agenda/commissievergadering/
LOCATION:Gemeentehuis Eersel\, Dijk 15\, Eersel\, Netherlands
END:VEVENT
BEGIN:VEVENT
DTSTART;TZID=UTC:20260114T070000
DTEND;TZID=UTC:20260114T230000
DTSTAMP:20260425T101700
CREATED:20250606T121924Z
LAST-MODIFIED:20250606T121924Z
UID:1155-1768374000-1768431600@pvda-groenlinks.nl
SUMMARY:Informatieavond/Borrel Eersel
DESCRIPTION:
URL:https://pvda-groenlinks.nl/agenda/informatieavond-borrel-eersel/
END:VEVENT
BEGIN:VEVENT
DTSTART;TZID=UTC:20260127T200000
DTEND;TZID=UTC:20260127T230000
DTSTAMP:20260425T101700
CREATED:20250606T105709Z
LAST-MODIFIED:20250606T105958Z
UID:1078-1769544000-1769554800@pvda-groenlinks.nl
SUMMARY:Raadsvergadering
DESCRIPTION:
URL:https://pvda-groenlinks.nl/agenda/raadsvergadering/
LOCATION:Gemeentehuis Eersel\, Dijk 15\, Eersel\, Netherlands
END:VEVENT
BEGIN:VEVENT
DTSTART;VALUE=DATE:20260216
DTEND;VALUE=DATE:20260221
DTSTAMP:20260425T101700
CREATED:20250606T105557Z
LAST-MODIFIED:20250606T105557Z
UID:1076-1771200000-1771631999@pvda-groenlinks.nl
SUMMARY:Voorjaarsvakantie
DESCRIPTION:
URL:https://pvda-groenlinks.nl/agenda/voorjaarsvakantie/
END:VEVENT
BEGIN:VEVENT
DTSTART;TZID=UTC:20260224T200000
DTEND;TZID=UTC:20260224T230000
DTSTAMP:20260425T101700
CREATED:20251123T072348Z
LAST-MODIFIED:20251123T072348Z
UID:1275-1771963200-1771974000@pvda-groenlinks.nl
SUMMARY:Commissievergadering
DESCRIPTION:
URL:https://pvda-groenlinks.nl/agenda/commissievergadering-6/
LOCATION:Gemeentehuis Eersel\, Dijk 15\, Eersel\, Netherlands
END:VEVENT
BEGIN:VEVENT
DTSTART;TZID=UTC:20260310T200000
DTEND;TZID=UTC:20260310T230000
DTSTAMP:20260425T101700
CREATED:20251123T072453Z
LAST-MODIFIED:20251123T072453Z
UID:1277-1773172800-1773183600@pvda-groenlinks.nl
SUMMARY:Raadsvergadering
DESCRIPTION:
URL:https://pvda-groenlinks.nl/agenda/raadsvergadering-6/
LOCATION:Gemeentehuis Eersel\, Dijk 15\, Eersel\, Netherlands
END:VEVENT
BEGIN:VEVENT
DTSTART;TZID=UTC:20260318T080000
DTEND;TZID=UTC:20260318T170000
DTSTAMP:20260425T101700
CREATED:20250606T105425Z
LAST-MODIFIED:20250606T105425Z
UID:1074-1773820800-1773853200@pvda-groenlinks.nl
SUMMARY:Gemeenteraadsverkiezingen 2026
DESCRIPTION:
URL:https://pvda-groenlinks.nl/agenda/gemeenteraadsverkiezingen-2026/
END:VEVENT
BEGIN:VEVENT
DTSTART;TZID=UTC:20260331T200000
DTEND;TZID=UTC:20260331T230000
DTSTAMP:20260425T101700
CREATED:20251123T072659Z
LAST-MODIFIED:20251123T072659Z
UID:1279-1774987200-1774998000@pvda-groenlinks.nl
SUMMARY:Raadsvergadering: Afscheid oude raad
DESCRIPTION:
URL:https://pvda-groenlinks.nl/agenda/raadsvergadering-afscheid-oude-raad/
LOCATION:Gemeentehuis Eersel\, Dijk 15\, Eersel\, Netherlands
END:VEVENT
BEGIN:VEVENT
DTSTART;TZID=UTC:20260401T200000
DTEND;TZID=UTC:20260401T230000
DTSTAMP:20260425T101700
CREATED:20251123T072804Z
LAST-MODIFIED:20251123T072804Z
UID:1281-1775073600-1775084400@pvda-groenlinks.nl
SUMMARY:Raadsvergadering: Installatie nieuwe raad
DESCRIPTION:
URL:https://pvda-groenlinks.nl/agenda/raadsvergadering-installatie-nieuwe-raad/
LOCATION:Gemeentehuis Eersel\, Dijk 15\, Eersel\, Netherlands
END:VEVENT
END:VCALENDAR