BEGIN:VCALENDAR
VERSION:2.0
PRODID:-//PvdA Groenlinks Eersel - ECPv6.15.20//NONSGML v1.0//EN
CALSCALE:GREGORIAN
METHOD:PUBLISH
X-WR-CALNAME:PvdA Groenlinks Eersel
X-ORIGINAL-URL:https://pvda-groenlinks.nl
X-WR-CALDESC:Evenementen voor PvdA Groenlinks Eersel
REFRESH-INTERVAL;VALUE=DURATION:PT1H
X-Robots-Tag:noindex
X-PUBLISHED-TTL:PT1H
BEGIN:VTIMEZONE
TZID:UTC
BEGIN:STANDARD
TZOFFSETFROM:+0000
TZOFFSETTO:+0000
TZNAME:UTC
DTSTART:20250101T000000
END:STANDARD
END:VTIMEZONE
BEGIN:VEVENT
DTSTART;TZID=UTC:20260401T200000
DTEND;TZID=UTC:20260401T230000
DTSTAMP:20260424T160624
CREATED:20251123T072804Z
LAST-MODIFIED:20251123T072804Z
UID:1281-1775073600-1775084400@pvda-groenlinks.nl
SUMMARY:Raadsvergadering: Installatie nieuwe raad
DESCRIPTION:
URL:https://pvda-groenlinks.nl/agenda/raadsvergadering-installatie-nieuwe-raad/
LOCATION:Gemeentehuis Eersel\, Dijk 15\, Eersel\, Netherlands
END:VEVENT
END:VCALENDAR