BEGIN:VCALENDAR
VERSION:2.0
PRODID:-//PvdA Groenlinks Eersel - ECPv6.15.20//NONSGML v1.0//EN
CALSCALE:GREGORIAN
METHOD:PUBLISH
X-ORIGINAL-URL:https://pvda-groenlinks.nl
X-WR-CALDESC:Evenementen voor PvdA Groenlinks Eersel
REFRESH-INTERVAL;VALUE=DURATION:PT1H
X-Robots-Tag:noindex
X-PUBLISHED-TTL:PT1H
BEGIN:VTIMEZONE
TZID:UTC
BEGIN:STANDARD
TZOFFSETFROM:+0000
TZOFFSETTO:+0000
TZNAME:UTC
DTSTART:20250101T000000
END:STANDARD
END:VTIMEZONE
BEGIN:VEVENT
DTSTART;TZID=UTC:20260331T200000
DTEND;TZID=UTC:20260331T230000
DTSTAMP:20260424T161751
CREATED:20251123T072659Z
LAST-MODIFIED:20251123T072659Z
UID:1279-1774987200-1774998000@pvda-groenlinks.nl
SUMMARY:Raadsvergadering: Afscheid oude raad
DESCRIPTION:
URL:https://pvda-groenlinks.nl/agenda/raadsvergadering-afscheid-oude-raad/
LOCATION:Gemeentehuis Eersel\, Dijk 15\, Eersel\, Netherlands
END:VEVENT
END:VCALENDAR