BEGIN:VCALENDAR
VERSION:2.0
PRODID:-//PvdA Groenlinks Eersel - ECPv6.15.20//NONSGML v1.0//EN
CALSCALE:GREGORIAN
METHOD:PUBLISH
X-WR-CALNAME:PvdA Groenlinks Eersel
X-ORIGINAL-URL:https://pvda-groenlinks.nl
X-WR-CALDESC:Evenementen voor PvdA Groenlinks Eersel
REFRESH-INTERVAL;VALUE=DURATION:PT1H
X-Robots-Tag:noindex
X-PUBLISHED-TTL:PT1H
BEGIN:VTIMEZONE
TZID:UTC
BEGIN:STANDARD
TZOFFSETFROM:+0000
TZOFFSETTO:+0000
TZNAME:UTC
DTSTART:20240101T000000
END:STANDARD
END:VTIMEZONE
BEGIN:VEVENT
DTSTART;VALUE=DATE:20251029
DTEND;VALUE=DATE:20251030
DTSTAMP:20260424T223335
CREATED:20250606T105141Z
LAST-MODIFIED:20250606T105141Z
UID:1072-1761696000-1761782399@pvda-groenlinks.nl
SUMMARY:Tweede Kamerverkiezingen
DESCRIPTION:
URL:https://pvda-groenlinks.nl/agenda/tweede-kamerverkiezingen/
END:VEVENT
END:VCALENDAR